BEGIN:VCALENDAR
VERSION:2.0
PRODID:-//Friends of Brewster Seniors - ECPv6.15.20//NONSGML v1.0//EN
CALSCALE:GREGORIAN
METHOD:PUBLISH
X-WR-CALNAME:Friends of Brewster Seniors
X-ORIGINAL-URL:https://friendsofbrewsterseniors.org
X-WR-CALDESC:Events for Friends of Brewster Seniors
REFRESH-INTERVAL;VALUE=DURATION:PT1H
X-Robots-Tag:noindex
X-PUBLISHED-TTL:PT1H
BEGIN:VTIMEZONE
TZID:America/New_York
BEGIN:DAYLIGHT
TZOFFSETFROM:-0500
TZOFFSETTO:-0400
TZNAME:EDT
DTSTART:20250309T070000
END:DAYLIGHT
BEGIN:STANDARD
TZOFFSETFROM:-0400
TZOFFSETTO:-0500
TZNAME:EST
DTSTART:20251102T060000
END:STANDARD
BEGIN:DAYLIGHT
TZOFFSETFROM:-0500
TZOFFSETTO:-0400
TZNAME:EDT
DTSTART:20260308T070000
END:DAYLIGHT
BEGIN:STANDARD
TZOFFSETFROM:-0400
TZOFFSETTO:-0500
TZNAME:EST
DTSTART:20261101T060000
END:STANDARD
BEGIN:DAYLIGHT
TZOFFSETFROM:-0500
TZOFFSETTO:-0400
TZNAME:EDT
DTSTART:20270314T070000
END:DAYLIGHT
BEGIN:STANDARD
TZOFFSETFROM:-0400
TZOFFSETTO:-0500
TZNAME:EST
DTSTART:20271107T060000
END:STANDARD
END:VTIMEZONE
BEGIN:VEVENT
DTSTART;TZID=America/New_York:20260510T150000
DTEND;TZID=America/New_York:20260510T170000
DTSTAMP:20260420T091658
CREATED:20260303T203457Z
LAST-MODIFIED:20260305T141628Z
UID:3745-1778425200-1778432400@friendsofbrewsterseniors.org
SUMMARY:Elvis!
DESCRIPTION:“It’s now or never…”\nSo many songs. So many memories of teenagers swooning over Elvis.  Won’t you join us at Cape Symphony’s concert featuring all things Elvis on Sunday\, Mother’s Day\, May 10th at 3 PM. \nWhy not take Mom — or someone else’s Mom — to enjoy a lively afternoon at the Cape Symphony at Barnstable HS in Hyannis?  We have obtained a limited number of discounted tickets to attend this tribute to the “King of Rock & Roll.” \nWhen the concert is over\, you can head out for an early dinner at any of the great Cape restaurants! Once registered and paid\, you’ll get an email about when to pick up your tickets at Sea Captains’ Thrift Shop.
URL:https://friendsofbrewsterseniors.org/event/elvis/
CATEGORIES:Activities,Featured
ATTACH;FMTTYPE=image/jpeg:https://friendsofbrewsterseniors.org/wp-content/uploads/2026/03/186-1869968_download-elvis-presley-clipart.jpg
END:VEVENT
END:VCALENDAR